BEGIN:VCALENDAR
VERSION:2.0
PRODID:-//Winter Area Chamber of Commerce - ECPv6.15.14//NONSGML v1.0//EN
CALSCALE:GREGORIAN
METHOD:PUBLISH
X-ORIGINAL-URL:https://winterwi.com
X-WR-CALDESC:Events for Winter Area Chamber of Commerce
REFRESH-INTERVAL;VALUE=DURATION:PT1H
X-Robots-Tag:noindex
X-PUBLISHED-TTL:PT1H
BEGIN:VTIMEZONE
TZID:America/Chicago
BEGIN:DAYLIGHT
TZOFFSETFROM:-0600
TZOFFSETTO:-0500
TZNAME:CDT
DTSTART:20240310T080000
END:DAYLIGHT
BEGIN:STANDARD
TZOFFSETFROM:-0500
TZOFFSETTO:-0600
TZNAME:CST
DTSTART:20241103T070000
END:STANDARD
BEGIN:DAYLIGHT
TZOFFSETFROM:-0600
TZOFFSETTO:-0500
TZNAME:CDT
DTSTART:20250309T080000
END:DAYLIGHT
BEGIN:STANDARD
TZOFFSETFROM:-0500
TZOFFSETTO:-0600
TZNAME:CST
DTSTART:20251102T070000
END:STANDARD
BEGIN:DAYLIGHT
TZOFFSETFROM:-0600
TZOFFSETTO:-0500
TZNAME:CDT
DTSTART:20260308T080000
END:DAYLIGHT
BEGIN:STANDARD
TZOFFSETFROM:-0500
TZOFFSETTO:-0600
TZNAME:CST
DTSTART:20261101T070000
END:STANDARD
END:VTIMEZONE
BEGIN:VEVENT
DTSTART;TZID=America/Chicago:20250908T080000
DTEND;TZID=America/Chicago:20251031T170000
DTSTAMP:20260422T150029
CREATED:20250901T194420Z
LAST-MODIFIED:20250925T221136Z
UID:1129-1757318400-1761930000@winterwi.com
SUMMARY:Flannel Fest
DESCRIPTION:What’s Flannel Fest?  It’s cooler mornings\, changing leaves and foliage\, gardens coming to an end\, kids back to school…just some of those things we look forward to with the change of the season up north.  So let’s celebrate! \nDuring the months of September and October the Winter Area Chamber of Commerce is hosting Flannel Fest.  We are asking you to join us by decorating your home or business.  When you do\, take a photo and look for the Flannel Fest post on Facebook (Winter Area Chamber of Commerce).  You can post your photos in the comments.  We would also like photos of “flannel clad” people!  Gather with employees\, family\, friends\, clubs\, or classes to take a photo with the crows or any fall display in town or at home. \nFeel free to host events like the Lion’s Club September fest.  It’s a great time for fall fun!  This is as local as it gets!  We love where we live!  Celebrate fall up north!
URL:https://winterwi.com/event/flannel-fest/
LOCATION:WI
ATTACH;FMTTYPE=image/jpeg:https://winterwi.com/wp-content/uploads/2025/09/20240917_163853.jpg
END:VEVENT
BEGIN:VEVENT
DTSTART;VALUE=DATE:20251001
DTEND;VALUE=DATE:20251002
DTSTAMP:20260422T150029
CREATED:20250708T212700Z
LAST-MODIFIED:20250708T212700Z
UID:988-1759276800-1759363199@winterwi.com
SUMMARY:Potluck at Calvary Lutheran Church
DESCRIPTION:Loretta Draper
URL:https://winterwi.com/event/potluck-at-calvary-lutheran-church-4/
LOCATION:WI
END:VEVENT
BEGIN:VEVENT
DTSTART;TZID=America/Chicago:20251001T100000
DTEND;TZID=America/Chicago:20251001T120000
DTSTAMP:20260422T150029
CREATED:20250925T221958Z
LAST-MODIFIED:20250926T205804Z
UID:1196-1759312800-1759320000@winterwi.com
SUMMARY:The Ukuladies and Lads - Concert
DESCRIPTION:Enjoy spirited  live music followed by a Potluck! Please bring a dish to pass. This is a fundraiser for the WALDO Community Center
URL:https://winterwi.com/event/the-ukuladies-and-lads-concert/
LOCATION:Waldo Community Center\, 6635 W Hwy 70\, Winter\, WI\, 54896-7415\, United States
ATTACH;FMTTYPE=image/jpeg:https://winterwi.com/wp-content/uploads/2025/09/ukeladies-lads.jpg
END:VEVENT
BEGIN:VEVENT
DTSTART;TZID=America/Chicago:20251004T120000
DTEND;TZID=America/Chicago:20251004T160000
DTSTAMP:20260422T150029
CREATED:20250926T214243Z
LAST-MODIFIED:20250926T214243Z
UID:1220-1759579200-1759593600@winterwi.com
SUMMARY:Southern Sawyer County Sports Club - Last Cook Out
DESCRIPTION:Chicken dinner – Spread the word!  This is a great fundraiser and great opportunity to visit with community members
URL:https://winterwi.com/event/southern-sawyer-county-sports-club-last-cook-out/
LOCATION:Southern Sawyer County Sports Club\, 5233 N Norwood Trailer Ct Rd\, Winter\, 54896\, United States
ATTACH;FMTTYPE=image/jpeg:https://winterwi.com/wp-content/uploads/2025/09/SSCSC.jpg
END:VEVENT
BEGIN:VEVENT
DTSTART;TZID=America/Chicago:20251008T100000
DTEND;TZID=America/Chicago:20251008T150000
DTSTAMP:20260422T150029
CREATED:20250926T211652Z
LAST-MODIFIED:20250926T212023Z
UID:1213-1759917600-1759935600@winterwi.com
SUMMARY:WALDO Community Center - Foot Care
DESCRIPTION:The Foot Care Nurse\, Jeanne Jones RN will be at the Center on Wednesday October 8th. She charges $40.00 cash or check only. If you want an appointment call her at 715-642-2802.
URL:https://winterwi.com/event/waldo-community-center-foot-care/
LOCATION:Waldo Community Center\, 6635 W Hwy 70\, Winter\, WI\, 54896-7415\, United States
ATTACH;FMTTYPE=image/jpeg:https://winterwi.com/wp-content/uploads/2025/07/DSC_9399.jpg
END:VEVENT
BEGIN:VEVENT
DTSTART;TZID=America/Chicago:20251018T100000
DTEND;TZID=America/Chicago:20251018T120000
DTSTAMP:20260422T150029
CREATED:20250926T210611Z
LAST-MODIFIED:20250926T210611Z
UID:1210-1760781600-1760788800@winterwi.com
SUMMARY:WALDO Community Center - Food Distribution
DESCRIPTION:The Food Distribution for October is on the 18th from 10 until noon. If you can’t come on that date you can stop in at WALDO during our open hours and we will help you out. If that doesn’t work for you call Laurie Martin at 715-651-6012 and she make other arrangements.
URL:https://winterwi.com/event/waldo-community-center-food-distribution/
LOCATION:Waldo Community Center\, 6635 W Hwy 70\, Winter\, WI\, 54896-7415\, United States
ATTACH;FMTTYPE=image/jpeg:https://winterwi.com/wp-content/uploads/2025/07/DSC_9399.jpg
END:VEVENT
BEGIN:VEVENT
DTSTART;TZID=America/Chicago:20251025T120000
DTEND;TZID=America/Chicago:20251025T140000
DTSTAMP:20260422T150029
CREATED:20250707T201751Z
LAST-MODIFIED:20251023T205803Z
UID:956-1761393600-1761400800@winterwi.com
SUMMARY:Draper Calvary Pie Social
DESCRIPTION:
URL:https://winterwi.com/event/draper-calvary-pie-social/
LOCATION:WI
END:VEVENT
END:VCALENDAR