BEGIN:VCALENDAR
VERSION:2.0
PRODID:-//Winter Area Chamber of Commerce - ECPv6.15.14//NONSGML v1.0//EN
CALSCALE:GREGORIAN
METHOD:PUBLISH
X-WR-CALNAME:Winter Area Chamber of Commerce
X-ORIGINAL-URL:https://winterwi.com
X-WR-CALDESC:Events for Winter Area Chamber of Commerce
REFRESH-INTERVAL;VALUE=DURATION:PT1H
X-Robots-Tag:noindex
X-PUBLISHED-TTL:PT1H
BEGIN:VTIMEZONE
TZID:America/Chicago
BEGIN:DAYLIGHT
TZOFFSETFROM:-0600
TZOFFSETTO:-0500
TZNAME:CDT
DTSTART:20250309T080000
END:DAYLIGHT
BEGIN:STANDARD
TZOFFSETFROM:-0500
TZOFFSETTO:-0600
TZNAME:CST
DTSTART:20251102T070000
END:STANDARD
BEGIN:DAYLIGHT
TZOFFSETFROM:-0600
TZOFFSETTO:-0500
TZNAME:CDT
DTSTART:20260308T080000
END:DAYLIGHT
BEGIN:STANDARD
TZOFFSETFROM:-0500
TZOFFSETTO:-0600
TZNAME:CST
DTSTART:20261101T070000
END:STANDARD
BEGIN:DAYLIGHT
TZOFFSETFROM:-0600
TZOFFSETTO:-0500
TZNAME:CDT
DTSTART:20270314T080000
END:DAYLIGHT
BEGIN:STANDARD
TZOFFSETFROM:-0500
TZOFFSETTO:-0600
TZNAME:CST
DTSTART:20271107T070000
END:STANDARD
END:VTIMEZONE
BEGIN:VEVENT
DTSTART;TZID=America/Chicago:20260523T090000
DTEND;TZID=America/Chicago:20260523T140000
DTSTAMP:20260422T173348
CREATED:20260217T164038Z
LAST-MODIFIED:20260217T172726Z
UID:1709-1779526800-1779544800@winterwi.com
SUMMARY:Winter Area Lions - 28th Annual Car Show
DESCRIPTION:The Winter Area Lions will have their 28th Annual Car Show. Car Registration is from 9 am til 12 noon. Trophy presentation is at 1:00 pm. Free viewing is all day during the Spring Fling Craft Show. Meat Raffle and 50/50 raffles are also available
URL:https://winterwi.com/event/winter-area-lions-september-fest/
LOCATION:Winter School\, 6585 West Grove St.\, Winter\, WI\, 54896\, United States
ATTACH;FMTTYPE=image/jpeg:https://winterwi.com/wp-content/uploads/2026/01/Spring-fling-car_show-edit.jpg
END:VEVENT
BEGIN:VEVENT
DTSTART;TZID=America/Chicago:20260523T090000
DTEND;TZID=America/Chicago:20260523T140000
DTSTAMP:20260422T173348
CREATED:20260311T154943Z
LAST-MODIFIED:20260422T140916Z
UID:1753-1779526800-1779544800@winterwi.com
SUMMARY:Spring Fling\, Winter Area Chamber of Commerce
DESCRIPTION:  \nSpring Fling\, scheduled for Saturday\, May 23\, 2026\, is an event that brings artisans\, crafters\, and vendors together along Main Street for a lively celebration of spring and hometown hospitality. Booths will open at 9:00 a.m. and continue until 2:00 p.m.\, giving visitors plenty of time to browse handmade items\, unique crafts\, local products\, and specialty goods. \nSpring Fling Vendor applications can be found at vendor registration
URL:https://winterwi.com/event/spring-fling-winter-area-chamber-of-commercechamber-of-commerce-2/
LOCATION:Main Street Winter\, Main Street\, Winter\, Wisconsin\, 54896-7415\, United States
ATTACH;FMTTYPE=application/pdf:https://winterwi.com/wp-content/uploads/2026/03/Spring-Fling-2026-Poster-Web-1.pdf
END:VEVENT
END:VCALENDAR