BEGIN:VCALENDAR
VERSION:2.0
PRODID:-//Winter Area Chamber of Commerce - ECPv6.15.14//NONSGML v1.0//EN
CALSCALE:GREGORIAN
METHOD:PUBLISH
X-WR-CALNAME:Winter Area Chamber of Commerce
X-ORIGINAL-URL:https://winterwi.com
X-WR-CALDESC:Events for Winter Area Chamber of Commerce
REFRESH-INTERVAL;VALUE=DURATION:PT1H
X-Robots-Tag:noindex
X-PUBLISHED-TTL:PT1H
BEGIN:VTIMEZONE
TZID:America/Chicago
BEGIN:DAYLIGHT
TZOFFSETFROM:-0600
TZOFFSETTO:-0500
TZNAME:CDT
DTSTART:20250309T080000
END:DAYLIGHT
BEGIN:STANDARD
TZOFFSETFROM:-0500
TZOFFSETTO:-0600
TZNAME:CST
DTSTART:20251102T070000
END:STANDARD
BEGIN:DAYLIGHT
TZOFFSETFROM:-0600
TZOFFSETTO:-0500
TZNAME:CDT
DTSTART:20260308T080000
END:DAYLIGHT
BEGIN:STANDARD
TZOFFSETFROM:-0500
TZOFFSETTO:-0600
TZNAME:CST
DTSTART:20261101T070000
END:STANDARD
BEGIN:DAYLIGHT
TZOFFSETFROM:-0600
TZOFFSETTO:-0500
TZNAME:CDT
DTSTART:20270314T080000
END:DAYLIGHT
BEGIN:STANDARD
TZOFFSETFROM:-0500
TZOFFSETTO:-0600
TZNAME:CST
DTSTART:20271107T070000
END:STANDARD
END:VTIMEZONE
BEGIN:VEVENT
DTSTART;TZID=America/Chicago:20260211T100000
DTEND;TZID=America/Chicago:20260211T150000
DTSTAMP:20260422T111506
CREATED:20260216T215954Z
LAST-MODIFIED:20260216T215954Z
UID:1694-1770804000-1770822000@winterwi.com
SUMMARY:WALDO Community Center - Foot Care
DESCRIPTION:The Foot Care Nurse\, Jeanne Jones RN will be at the Center on Wednesday February 11th. She charges $40.00 cash or check only. If you want an appointment call her at 715-642-2802.
URL:https://winterwi.com/event/waldo-community-center-foot-care-4/
LOCATION:Waldo Community Center\, 6635 W Hwy 70\, Winter\, WI\, 54896-7415\, United States
ATTACH;FMTTYPE=image/jpeg:https://winterwi.com/wp-content/uploads/2025/06/20250605_133535-e1762986219124.jpg
END:VEVENT
END:VCALENDAR