BEGIN:VCALENDAR
VERSION:2.0
PRODID:-//Winter Area Chamber of Commerce - ECPv6.15.14//NONSGML v1.0//EN
CALSCALE:GREGORIAN
METHOD:PUBLISH
X-WR-CALNAME:Winter Area Chamber of Commerce
X-ORIGINAL-URL:https://winterwi.com
X-WR-CALDESC:Events for Winter Area Chamber of Commerce
REFRESH-INTERVAL;VALUE=DURATION:PT1H
X-Robots-Tag:noindex
X-PUBLISHED-TTL:PT1H
BEGIN:VTIMEZONE
TZID:America/Chicago
BEGIN:DAYLIGHT
TZOFFSETFROM:-0600
TZOFFSETTO:-0500
TZNAME:CDT
DTSTART:20240310T080000
END:DAYLIGHT
BEGIN:STANDARD
TZOFFSETFROM:-0500
TZOFFSETTO:-0600
TZNAME:CST
DTSTART:20241103T070000
END:STANDARD
BEGIN:DAYLIGHT
TZOFFSETFROM:-0600
TZOFFSETTO:-0500
TZNAME:CDT
DTSTART:20250309T080000
END:DAYLIGHT
BEGIN:STANDARD
TZOFFSETFROM:-0500
TZOFFSETTO:-0600
TZNAME:CST
DTSTART:20251102T070000
END:STANDARD
BEGIN:DAYLIGHT
TZOFFSETFROM:-0600
TZOFFSETTO:-0500
TZNAME:CDT
DTSTART:20260308T080000
END:DAYLIGHT
BEGIN:STANDARD
TZOFFSETFROM:-0500
TZOFFSETTO:-0600
TZNAME:CST
DTSTART:20261101T070000
END:STANDARD
END:VTIMEZONE
BEGIN:VEVENT
DTSTART;TZID=America/Chicago:20251224T160000
DTEND;TZID=America/Chicago:20251224T170000
DTSTAMP:20260422T134501
CREATED:20251213T204849Z
LAST-MODIFIED:20251213T205134Z
UID:1600-1766592000-1766595600@winterwi.com
SUMMARY:Draper Calvary Lutheran Candle Light Service
DESCRIPTION:Christmas Eve Candle Light Service
URL:https://winterwi.com/event/calvary-lutheran-church-of-draper-candle-light-servicepotluck-at-calvary-lutheran-church-7/
LOCATION:Calvary Lutheran Church of Draper\, 3214 W State Rd 70\, Loretta\, WI\, 54896\, United States
ATTACH;FMTTYPE=image/jpeg:https://winterwi.com/wp-content/uploads/2025/11/calvaryredapple1.jpg
END:VEVENT
BEGIN:VEVENT
DTSTART;TZID=America/Chicago:20251224T180000
DTEND;TZID=America/Chicago:20251224T190000
DTSTAMP:20260422T134501
CREATED:20251102T173725Z
LAST-MODIFIED:20251102T173725Z
UID:1533-1766599200-1766602800@winterwi.com
SUMMARY:Zion Lutheran Evangelical Christmas Eve worship
DESCRIPTION:
URL:https://winterwi.com/event/zion-lutheran-evangelical-christmas-eve-worship/
LOCATION:Zion Luthern Evangelical Church\, 5268 N Cemetery Rd\, Winter\, WI\, 54896\, United States
END:VEVENT
END:VCALENDAR