BEGIN:VCALENDAR
VERSION:2.0
PRODID:-//Winter Area Chamber of Commerce - ECPv6.15.14//NONSGML v1.0//EN
CALSCALE:GREGORIAN
METHOD:PUBLISH
X-WR-CALNAME:Winter Area Chamber of Commerce
X-ORIGINAL-URL:https://winterwi.com
X-WR-CALDESC:Events for Winter Area Chamber of Commerce
REFRESH-INTERVAL;VALUE=DURATION:PT1H
X-Robots-Tag:noindex
X-PUBLISHED-TTL:PT1H
BEGIN:VTIMEZONE
TZID:America/Chicago
BEGIN:DAYLIGHT
TZOFFSETFROM:-0600
TZOFFSETTO:-0500
TZNAME:CDT
DTSTART:20240310T080000
END:DAYLIGHT
BEGIN:STANDARD
TZOFFSETFROM:-0500
TZOFFSETTO:-0600
TZNAME:CST
DTSTART:20241103T070000
END:STANDARD
BEGIN:DAYLIGHT
TZOFFSETFROM:-0600
TZOFFSETTO:-0500
TZNAME:CDT
DTSTART:20250309T080000
END:DAYLIGHT
BEGIN:STANDARD
TZOFFSETFROM:-0500
TZOFFSETTO:-0600
TZNAME:CST
DTSTART:20251102T070000
END:STANDARD
BEGIN:DAYLIGHT
TZOFFSETFROM:-0600
TZOFFSETTO:-0500
TZNAME:CDT
DTSTART:20260308T080000
END:DAYLIGHT
BEGIN:STANDARD
TZOFFSETFROM:-0500
TZOFFSETTO:-0600
TZNAME:CST
DTSTART:20261101T070000
END:STANDARD
END:VTIMEZONE
BEGIN:VEVENT
DTSTART;TZID=America/Chicago:20251129T090000
DTEND;TZID=America/Chicago:20251129T140000
DTSTAMP:20260422T145947
CREATED:20250707T202131Z
LAST-MODIFIED:20251125T151703Z
UID:962-1764406800-1764424800@winterwi.com
SUMMARY:Homespun Holidays\, Winter Area Chamber of Commerce
DESCRIPTION:Homespun Holidays in Winter\, WI\, is an annual craft show hosted by the Winter Area Chamber of Commerce on the Saturday after Thanksgiving every year. We invite you shop the various crafters and merchants who will be displaying their amazing variety of artistic\, culinary\, clothing\, holiday and specialty products on this day at the Winter School. This is the area’s largest fall craft show featuring over 75 of the areas finest crafters and in home business vendors. It will be held this year on Saturday\, November 29th\, from 9am to 2pm at the Winter School on Grove St.\, Winter\, WI. You will find everything from candles to bird feeders\, jewelry to rugs\, wreaths to hand-knit mittens and scarves\, and more! Handmade art & crafts\, in-home and online business sales\, informational\, and handcrafted food booth’s are welcome. This is a community event to celebrate the holiday season and support local talent.  Meals in the school cafeteria are available during the event. Vendors Register Here
URL:https://winterwi.com/event/homespun-holidays-winter-area-chamber-of-commerce/
LOCATION:Winter School\, 6585 West Grove St.\, Winter\, WI\, 54896\, United States
ATTACH;FMTTYPE=image/jpeg:https://winterwi.com/wp-content/uploads/2025/07/homespun-pic.jpg
END:VEVENT
END:VCALENDAR